BEGIN:VCALENDAR
VERSION:2.0
PRODID:-//NetAuktion//NONSGML NetAuktion//SV
METHOD:PUBLISH
BEGIN:VEVENT
UID:20260421T104605-1220566354-netauktion.se
DTSTAMP:20260421T104605
DTSTART:20100531T022200
DTEND:20100531T022500
SUMMARY:Netauktion objekt 0394-139 Auktionspåminnelse
DESCRIPTION:Länk till objektet du var intresserad av: https://staging.netauktion.se/auktion/produkt/foma-varmepump-for-200m-103
END:VEVENT
END:VCALENDAR
