BEGIN:VCALENDAR
VERSION:2.0
PRODID:-//NetAuktion//NONSGML NetAuktion//SV
METHOD:PUBLISH
BEGIN:VEVENT
UID:20260421T102854-1161582503-netauktion.se
DTSTAMP:20260421T102854
DTSTART:20100531T010900
DTEND:20100531T011200
SUMMARY:Netauktion objekt 0565-002 Auktionspåminnelse
DESCRIPTION:Länk till objektet du var intresserad av: https://staging.netauktion.se/auktion/produkt/tradgardsbord-och-blomsterkorgar
END:VEVENT
END:VCALENDAR
