BEGIN:VCALENDAR
VERSION:2.0
PRODID:-//NetAuktion//NONSGML NetAuktion//SV
METHOD:PUBLISH
BEGIN:VEVENT
UID:20260421T104426-1107648010-netauktion.se
DTSTAMP:20260421T104426
DTSTART:20100531T010000
DTEND:20100531T010300
SUMMARY:Netauktion objekt 0565-005 Auktionspåminnelse
DESCRIPTION:Länk till objektet du var intresserad av: https://staging.netauktion.se/auktion/produkt/cafebord-i-smide
END:VEVENT
END:VCALENDAR
