BEGIN:VCALENDAR
VERSION:2.0
PRODID:-//NetAuktion//NONSGML NetAuktion//SV
METHOD:PUBLISH
BEGIN:VEVENT
UID:20260425T134249-1356808370-netauktion.se
DTSTAMP:20260425T134249
DTSTART:20090116T024000
DTEND:20090116T024300
SUMMARY:Netauktion objekt 0127-002 Auktionspåminnelse
DESCRIPTION:Länk till objektet du var intresserad av: https://staging.netauktion.se/auktion/produkt/norrlandsvagnen-blidbergs-depavagn
END:VEVENT
END:VCALENDAR
