BEGIN:VCALENDAR
VERSION:2.0
PRODID:-//NetAuktion//NONSGML NetAuktion//SV
METHOD:PUBLISH
BEGIN:VEVENT
UID:20260421T102832-898049178-netauktion.se
DTSTAMP:20260421T102832
DTSTART:20081128T014200
DTEND:20081128T014500
SUMMARY:Netauktion objekt 0125-093 Auktionspåminnelse
DESCRIPTION:Länk till objektet du var intresserad av: https://staging.netauktion.se/auktion/produkt/4st-blomvaser-i-olika-farger
END:VEVENT
END:VCALENDAR
