BEGIN:VCALENDAR
VERSION:2.0
PRODID:-//NetAuktion//NONSGML NetAuktion//SV
METHOD:PUBLISH
BEGIN:VEVENT
UID:20260421T104452-736358790-netauktion.se
DTSTAMP:20260421T104452
DTSTART:20101102T014300
DTEND:20101102T014600
SUMMARY:Netauktion objekt 0585-004 Auktionspåminnelse
DESCRIPTION:Länk till objektet du var intresserad av: https://staging.netauktion.se/auktion/produkt/for-de-blivande-foraldrarna-3
END:VEVENT
END:VCALENDAR
