BEGIN:VCALENDAR
VERSION:2.0
PRODID:-//NetAuktion//NONSGML NetAuktion//SV
METHOD:PUBLISH
BEGIN:VEVENT
UID:20260421T104305-615984925-netauktion.se
DTSTAMP:20260421T104305
DTSTART:20101102T015000
DTEND:20101102T015300
SUMMARY:Netauktion objekt 0585-015 Auktionspåminnelse
DESCRIPTION:Länk till objektet du var intresserad av: https://staging.netauktion.se/auktion/produkt/parti-med-barnklader
END:VEVENT
END:VCALENDAR
