BEGIN:VCALENDAR
VERSION:2.0
PRODID:-//NetAuktion//NONSGML NetAuktion//SV
METHOD:PUBLISH
BEGIN:VEVENT
UID:20260421T104432-390796874-netauktion.se
DTSTAMP:20260421T104432
DTSTART:20110331T015200
DTEND:20110331T015500
SUMMARY:Netauktion objekt 0587-002 Auktionspåminnelse
DESCRIPTION:Länk till objektet du var intresserad av: https://staging.netauktion.se/auktion/produkt/2st-nya-natverkskort-for-barbara-datorer-d-link-3
END:VEVENT
END:VCALENDAR
