BEGIN:VCALENDAR
VERSION:2.0
PRODID:-//NetAuktion//NONSGML NetAuktion//SV
METHOD:PUBLISH
BEGIN:VEVENT
UID:20260421T102746-782963349-netauktion.se
DTSTAMP:20260421T102746
DTSTART:20100831T184300
DTEND:20100831T184600
SUMMARY:Netauktion objekt 0545-003 Auktionspåminnelse
DESCRIPTION:Länk till objektet du var intresserad av: https://staging.netauktion.se/auktion/produkt/commersial-print-line-harris-m8502
END:VEVENT
END:VCALENDAR
