BEGIN:VCALENDAR
VERSION:2.0
PRODID:-//NetAuktion//NONSGML NetAuktion//SV
METHOD:PUBLISH
BEGIN:VEVENT
UID:20260421T104323-954416296-netauktion.se
DTSTAMP:20260421T104323
DTSTART:20100630T021500
DTEND:20100630T021800
SUMMARY:Netauktion objekt 0596-002 Auktionspåminnelse
DESCRIPTION:Länk till objektet du var intresserad av: https://staging.netauktion.se/auktion/produkt/5st-400mm-tigersagsblad-hardmetall-9
END:VEVENT
END:VCALENDAR
