BEGIN:VCALENDAR
VERSION:2.0
PRODID:-//NetAuktion//NONSGML NetAuktion//SV
METHOD:PUBLISH
BEGIN:VEVENT
UID:20260421T102704-727427674-netauktion.se
DTSTAMP:20260421T102704
DTSTART:20100630T021400
DTEND:20100630T021700
SUMMARY:Netauktion objekt 0596-003 Auktionspåminnelse
DESCRIPTION:Länk till objektet du var intresserad av: https://staging.netauktion.se/auktion/produkt/5st-400mm-tigersagsblad-hardmetall-3
END:VEVENT
END:VCALENDAR
