BEGIN:VCALENDAR
VERSION:2.0
PRODID:-//NetAuktion//NONSGML NetAuktion//SV
METHOD:PUBLISH
BEGIN:VEVENT
UID:20260421T102803-1372547943-netauktion.se
DTSTAMP:20260421T102803
DTSTART:20100630T021200
DTEND:20100630T021500
SUMMARY:Netauktion objekt 0596-005 Auktionspåminnelse
DESCRIPTION:Länk till objektet du var intresserad av: https://staging.netauktion.se/auktion/produkt/5st-400mm-tigersagsblad-hardmetall-5
END:VEVENT
END:VCALENDAR
