BEGIN:VCALENDAR
VERSION:2.0
PRODID:-//NetAuktion//NONSGML NetAuktion//SV
METHOD:PUBLISH
BEGIN:VEVENT
UID:20260421T104432-1500251416-netauktion.se
DTSTAMP:20260421T104432
DTSTART:20100630T020900
DTEND:20100630T021200
SUMMARY:Netauktion objekt 0596-010 Auktionspåminnelse
DESCRIPTION:Länk till objektet du var intresserad av: https://staging.netauktion.se/auktion/produkt/29st-forpackningar-tigersagsblad-150mm-6
END:VEVENT
END:VCALENDAR
