BEGIN:VCALENDAR
VERSION:2.0
PRODID:-//NetAuktion//NONSGML NetAuktion//SV
METHOD:PUBLISH
BEGIN:VEVENT
UID:20260421T103127-279381251-netauktion.se
DTSTAMP:20260421T103127
DTSTART:20100630T020700
DTEND:20100630T021000
SUMMARY:Netauktion objekt 0596-011 Auktionspåminnelse
DESCRIPTION:Länk till objektet du var intresserad av: https://staging.netauktion.se/auktion/produkt/29st-forpackningar-tigersagsblad-150mm-5
END:VEVENT
END:VCALENDAR
