BEGIN:VCALENDAR
VERSION:2.0
PRODID:-//NetAuktion//NONSGML NetAuktion//SV
METHOD:PUBLISH
BEGIN:VEVENT
UID:20260421T104322-735366448-netauktion.se
DTSTAMP:20260421T104322
DTSTART:20100630T020800
DTEND:20100630T021100
SUMMARY:Netauktion objekt 0596-012 Auktionspåminnelse
DESCRIPTION:Länk till objektet du var intresserad av: https://staging.netauktion.se/auktion/produkt/29st-forpackningar-tigersagsblad-150mm-7
END:VEVENT
END:VCALENDAR
