BEGIN:VCALENDAR
VERSION:2.0
PRODID:-//NetAuktion//NONSGML NetAuktion//SV
METHOD:PUBLISH
BEGIN:VEVENT
UID:20260421T104354-1981667555-netauktion.se
DTSTAMP:20260421T104354
DTSTART:20100630T020700
DTEND:20100630T021000
SUMMARY:Netauktion objekt 0596-013 Auktionspåminnelse
DESCRIPTION:Länk till objektet du var intresserad av: https://staging.netauktion.se/auktion/produkt/29st-forpackningar-tigersagsblad-150mm-3
END:VEVENT
END:VCALENDAR
