BEGIN:VCALENDAR
VERSION:2.0
PRODID:-//NetAuktion//NONSGML NetAuktion//SV
METHOD:PUBLISH
BEGIN:VEVENT
UID:20260421T104359-764424307-netauktion.se
DTSTAMP:20260421T104359
DTSTART:20100630T020800
DTEND:20100630T021100
SUMMARY:Netauktion objekt 0596-015 Auktionspåminnelse
DESCRIPTION:Länk till objektet du var intresserad av: https://staging.netauktion.se/auktion/produkt/40st-forpackningar-med-sticksagsblad-90mm
END:VEVENT
END:VCALENDAR
