BEGIN:VCALENDAR
VERSION:2.0
PRODID:-//NetAuktion//NONSGML NetAuktion//SV
METHOD:PUBLISH
BEGIN:VEVENT
UID:20260421T104537-1342264049-netauktion.se
DTSTAMP:20260421T104537
DTSTART:20100630T014600
DTEND:20100630T014900
SUMMARY:Netauktion objekt 0596-017 Auktionspåminnelse
DESCRIPTION:Länk till objektet du var intresserad av: https://staging.netauktion.se/auktion/produkt/40st-forpackningar-med-sticksagsblad-90mm-3
END:VEVENT
END:VCALENDAR
