BEGIN:VCALENDAR
VERSION:2.0
PRODID:-//NetAuktion//NONSGML NetAuktion//SV
METHOD:PUBLISH
BEGIN:VEVENT
UID:20260421T104354-437703675-netauktion.se
DTSTAMP:20260421T104354
DTSTART:20100630T014500
DTEND:20100630T014800
SUMMARY:Netauktion objekt 0596-018 Auktionspåminnelse
DESCRIPTION:Länk till objektet du var intresserad av: https://staging.netauktion.se/auktion/produkt/40st-forpackningar-med-sticksagsblad-90mm-5
END:VEVENT
END:VCALENDAR
