BEGIN:VCALENDAR
VERSION:2.0
PRODID:-//NetAuktion//NONSGML NetAuktion//SV
METHOD:PUBLISH
BEGIN:VEVENT
UID:20260421T104529-1304010135-netauktion.se
DTSTAMP:20260421T104529
DTSTART:20100630T014200
DTEND:20100630T014500
SUMMARY:Netauktion objekt 0596-021 Auktionspåminnelse
DESCRIPTION:Länk till objektet du var intresserad av: https://staging.netauktion.se/auktion/produkt/11st-forpackningar-tigersagsblad-bi-met-225mm-3
END:VEVENT
END:VCALENDAR
