BEGIN:VCALENDAR
VERSION:2.0
PRODID:-//NetAuktion//NONSGML NetAuktion//SV
METHOD:PUBLISH
BEGIN:VEVENT
UID:20260421T102932-793059128-netauktion.se
DTSTAMP:20260421T102932
DTSTART:20100630T013800
DTEND:20100630T014100
SUMMARY:Netauktion objekt 0596-025 Auktionspåminnelse
DESCRIPTION:Länk till objektet du var intresserad av: https://staging.netauktion.se/auktion/produkt/18st-forpackningar-tigersagsblad-bi-met-225mm-3
END:VEVENT
END:VCALENDAR
