BEGIN:VCALENDAR
VERSION:2.0
PRODID:-//NetAuktion//NONSGML NetAuktion//SV
METHOD:PUBLISH
BEGIN:VEVENT
UID:20260421T104458-960570172-netauktion.se
DTSTAMP:20260421T104458
DTSTART:20100630T013700
DTEND:20100630T014000
SUMMARY:Netauktion objekt 0596-026 Auktionspåminnelse
DESCRIPTION:Länk till objektet du var intresserad av: https://staging.netauktion.se/auktion/produkt/18st-forpackningar-tigersagsblad-bi-met-225mm-5
END:VEVENT
END:VCALENDAR
