BEGIN:VCALENDAR
VERSION:2.0
PRODID:-//NetAuktion//NONSGML NetAuktion//SV
METHOD:PUBLISH
BEGIN:VEVENT
UID:20260421T104432-109546154-netauktion.se
DTSTAMP:20260421T104432
DTSTART:20100630T020100
DTEND:20100630T020400
SUMMARY:Netauktion objekt 0596-032 Auktionspåminnelse
DESCRIPTION:Länk till objektet du var intresserad av: https://staging.netauktion.se/auktion/produkt/39st-forpackningar-med-sticksagsblad-105mm
END:VEVENT
END:VCALENDAR
