BEGIN:VCALENDAR
VERSION:2.0
PRODID:-//NetAuktion//NONSGML NetAuktion//SV
METHOD:PUBLISH
BEGIN:VEVENT
UID:20260421T104441-1372582980-netauktion.se
DTSTAMP:20260421T104441
DTSTART:20100630T020600
DTEND:20100630T020900
SUMMARY:Netauktion objekt 0596-033 Auktionspåminnelse
DESCRIPTION:Länk till objektet du var intresserad av: https://staging.netauktion.se/auktion/produkt/39st-forpackningar-med-sticksagsblad-105mm-2
END:VEVENT
END:VCALENDAR
