BEGIN:VCALENDAR
VERSION:2.0
PRODID:-//NetAuktion//NONSGML NetAuktion//SV
METHOD:PUBLISH
BEGIN:VEVENT
UID:20260421T104429-58229119-netauktion.se
DTSTAMP:20260421T104429
DTSTART:20100630T015900
DTEND:20100630T020200
SUMMARY:Netauktion objekt 0596-034 Auktionspåminnelse
DESCRIPTION:Länk till objektet du var intresserad av: https://staging.netauktion.se/auktion/produkt/23st-forpackningar-m-tand-tigersagsblad-006150
END:VEVENT
END:VCALENDAR
