BEGIN:VCALENDAR
VERSION:2.0
PRODID:-//NetAuktion//NONSGML NetAuktion//SV
METHOD:PUBLISH
BEGIN:VEVENT
UID:20260421T104534-1330387650-netauktion.se
DTSTAMP:20260421T104534
DTSTART:20100630T015800
DTEND:20100630T020100
SUMMARY:Netauktion objekt 0596-035 Auktionspåminnelse
DESCRIPTION:Länk till objektet du var intresserad av: https://staging.netauktion.se/auktion/produkt/23st-forpackningar-m-tand-tigersagsblad-006150-2
END:VEVENT
END:VCALENDAR
