BEGIN:VCALENDAR
VERSION:2.0
PRODID:-//NetAuktion//NONSGML NetAuktion//SV
METHOD:PUBLISH
BEGIN:VEVENT
UID:20260421T102852-763730806-netauktion.se
DTSTAMP:20260421T102852
DTSTART:20101102T010900
DTEND:20101102T011200
SUMMARY:Netauktion objekt 0587-052 Auktionspåminnelse
DESCRIPTION:Länk till objektet du var intresserad av: https://staging.netauktion.se/auktion/produkt/5st-nya-d-link-dir-100-routrar-3
END:VEVENT
END:VCALENDAR
