BEGIN:VCALENDAR
VERSION:2.0
PRODID:-//NetAuktion//NONSGML NetAuktion//SV
METHOD:PUBLISH
BEGIN:VEVENT
UID:20260421T102952-1026333533-netauktion.se
DTSTAMP:20260421T102952
DTSTART:20100831T192400
DTEND:20100831T192700
SUMMARY:Netauktion objekt 0545-014 Auktionspåminnelse
DESCRIPTION:Länk till objektet du var intresserad av: https://staging.netauktion.se/auktion/produkt/saddle-stitcher-line-haftlinje-muller-martini-300
END:VEVENT
END:VCALENDAR
