BEGIN:VCALENDAR
VERSION:2.0
PRODID:-//NetAuktion//NONSGML NetAuktion//SV
METHOD:PUBLISH
BEGIN:VEVENT
UID:20260421T102954-1676859861-netauktion.se
DTSTAMP:20260421T102954
DTSTART:20100831T185700
DTEND:20100831T190000
SUMMARY:Netauktion objekt 0545-016 Auktionspåminnelse
DESCRIPTION:Länk till objektet du var intresserad av: https://staging.netauktion.se/auktion/produkt/plastic-packer-inplastare-kallfass-kc5050
END:VEVENT
END:VCALENDAR
