BEGIN:VCALENDAR
VERSION:2.0
PRODID:-//NetAuktion//NONSGML NetAuktion//SV
METHOD:PUBLISH
BEGIN:VEVENT
UID:20260421T104455-1720042645-netauktion.se
DTSTAMP:20260421T104455
DTSTART:20100831T194300
DTEND:20100831T194600
SUMMARY:Netauktion objekt 0545-026 Auktionspåminnelse
DESCRIPTION:Länk till objektet du var intresserad av: https://staging.netauktion.se/auktion/produkt/dust-suction-plant-briquette-press-hockner-polytechnik
END:VEVENT
END:VCALENDAR
