BEGIN:VCALENDAR
VERSION:2.0
PRODID:-//NetAuktion//NONSGML NetAuktion//SV
METHOD:PUBLISH
BEGIN:VEVENT
UID:20260421T104359-1836270876-netauktion.se
DTSTAMP:20260421T104359
DTSTART:20100831T055700
DTEND:20100831T060000
SUMMARY:Netauktion objekt 0545-028 Auktionspåminnelse
DESCRIPTION:Länk till objektet du var intresserad av: https://staging.netauktion.se/auktion/produkt/horizontal-baler-presona-lp40eh2-2
END:VEVENT
END:VCALENDAR
