BEGIN:VCALENDAR
VERSION:2.0
PRODID:-//NetAuktion//NONSGML NetAuktion//SV
METHOD:PUBLISH
BEGIN:VEVENT
UID:20260421T104439-2125364412-netauktion.se
DTSTAMP:20260421T104439
DTSTART:20110331T014900
DTEND:20110331T015200
SUMMARY:Netauktion objekt 0587-066 Auktionspåminnelse
DESCRIPTION:Länk till objektet du var intresserad av: https://staging.netauktion.se/auktion/produkt/3st-nya-d-link-dir-100-routrar-2
END:VEVENT
END:VCALENDAR
