BEGIN:VCALENDAR
VERSION:2.0
PRODID:-//NetAuktion//NONSGML NetAuktion//SV
METHOD:PUBLISH
BEGIN:VEVENT
UID:20260421T102704-550179307-netauktion.se
DTSTAMP:20260421T102704
DTSTART:20100831T211300
DTEND:20100831T211600
SUMMARY:Netauktion objekt 0545-034 Auktionspåminnelse
DESCRIPTION:Länk till objektet du var intresserad av: https://staging.netauktion.se/auktion/produkt/air-compressor-atlas-copco-zr3m
END:VEVENT
END:VCALENDAR
