BEGIN:VCALENDAR
VERSION:2.0
PRODID:-//NetAuktion//NONSGML NetAuktion//SV
METHOD:PUBLISH
BEGIN:VEVENT
UID:20260421T104442-1604720521-netauktion.se
DTSTAMP:20260421T104442
DTSTART:20100831T055700
DTEND:20100831T060000
SUMMARY:Netauktion objekt 0545-035 Auktionspåminnelse
DESCRIPTION:Länk till objektet du var intresserad av: https://staging.netauktion.se/auktion/produkt/air-compressor-atlas-copco-zr3-50
END:VEVENT
END:VCALENDAR
