BEGIN:VCALENDAR
VERSION:2.0
PRODID:-//NetAuktion//NONSGML NetAuktion//SV
METHOD:PUBLISH
BEGIN:VEVENT
UID:20260421T104354-412426299-netauktion.se
DTSTAMP:20260421T104354
DTSTART:20100831T202300
DTEND:20100831T202600
SUMMARY:Netauktion objekt 0545-043 Auktionspåminnelse
DESCRIPTION:Länk till objektet du var intresserad av: https://staging.netauktion.se/auktion/produkt/air-dryer-atlas-copco-fd-1000-3
END:VEVENT
END:VCALENDAR
