BEGIN:VCALENDAR
VERSION:2.0
PRODID:-//NetAuktion//NONSGML NetAuktion//SV
METHOD:PUBLISH
BEGIN:VEVENT
UID:20260421T104311-1101218296-netauktion.se
DTSTAMP:20260421T104311
DTSTART:20101102T010600
DTEND:20101102T010900
SUMMARY:Netauktion objekt 0471-010 Auktionspåminnelse
DESCRIPTION:Länk till objektet du var intresserad av: https://staging.netauktion.se/auktion/produkt/2st-depastod-for-mc
END:VEVENT
END:VCALENDAR
