BEGIN:VCALENDAR
VERSION:2.0
PRODID:-//NetAuktion//NONSGML NetAuktion//SV
METHOD:PUBLISH
BEGIN:VEVENT
UID:20260425T134348-271093476-netauktion.se
DTSTAMP:20260425T134348
DTSTART:20090123T012200
DTEND:20090123T012500
SUMMARY:Netauktion objekt 0142-038 Auktionspåminnelse
DESCRIPTION:Länk till objektet du var intresserad av: https://staging.netauktion.se/auktion/produkt/46handgjorda-designglas
END:VEVENT
END:VCALENDAR
