BEGIN:VCALENDAR
VERSION:2.0
PRODID:-//NetAuktion//NONSGML NetAuktion//SV
METHOD:PUBLISH
BEGIN:VEVENT
UID:20260421T104455-883261999-netauktion.se
DTSTAMP:20260421T104455
DTSTART:20100830T032000
DTEND:20100830T032300
SUMMARY:Netauktion objekt 0615-003 Auktionspåminnelse
DESCRIPTION:Länk till objektet du var intresserad av: https://staging.netauktion.se/auktion/produkt/helt-ny-bastudorr
END:VEVENT
END:VCALENDAR
