BEGIN:VCALENDAR
VERSION:2.0
PRODID:-//NetAuktion//NONSGML NetAuktion//SV
METHOD:PUBLISH
BEGIN:VEVENT
UID:20260421T102832-2144639490-netauktion.se
DTSTAMP:20260421T102832
DTSTART:20100730T014400
DTEND:20100730T014700
SUMMARY:Netauktion objekt 0620-014 Auktionspåminnelse
DESCRIPTION:Länk till objektet du var intresserad av: https://staging.netauktion.se/auktion/produkt/industridammsugare-ghibli
END:VEVENT
END:VCALENDAR
