BEGIN:VCALENDAR
VERSION:2.0
PRODID:-//NetAuktion//NONSGML NetAuktion//SV
METHOD:PUBLISH
BEGIN:VEVENT
UID:20260421T104358-809663092-netauktion.se
DTSTAMP:20260421T104358
DTSTART:20100730T021700
DTEND:20100730T022000
SUMMARY:Netauktion objekt 0620-021 Auktionspåminnelse
DESCRIPTION:Länk till objektet du var intresserad av: https://staging.netauktion.se/auktion/produkt/kombi-stadmaskin-clarke-encore-2
END:VEVENT
END:VCALENDAR
