BEGIN:VCALENDAR
VERSION:2.0
PRODID:-//NetAuktion//NONSGML NetAuktion//SV
METHOD:PUBLISH
BEGIN:VEVENT
UID:20260421T102832-1457430563-netauktion.se
DTSTAMP:20260421T102832
DTSTART:20100730T022800
DTEND:20100730T023100
SUMMARY:Netauktion objekt 0620-022 Auktionspåminnelse
DESCRIPTION:Länk till objektet du var intresserad av: https://staging.netauktion.se/auktion/produkt/kombi-stadmaskin-clarke-encore-4
END:VEVENT
END:VCALENDAR
