BEGIN:VCALENDAR
VERSION:2.0
PRODID:-//NetAuktion//NONSGML NetAuktion//SV
METHOD:PUBLISH
BEGIN:VEVENT
UID:20260421T102855-285472923-netauktion.se
DTSTAMP:20260421T102855
DTSTART:20100730T015300
DTEND:20100730T015600
SUMMARY:Netauktion objekt 0620-023 Auktionspåminnelse
DESCRIPTION:Länk till objektet du var intresserad av: https://staging.netauktion.se/auktion/produkt/kombi-stadmaskin-clarke-encore-3
END:VEVENT
END:VCALENDAR
