BEGIN:VCALENDAR
VERSION:2.0
PRODID:-//NetAuktion//NONSGML NetAuktion//SV
METHOD:PUBLISH
BEGIN:VEVENT
UID:20260421T104354-1014246615-netauktion.se
DTSTAMP:20260421T104354
DTSTART:20100730T015400
DTEND:20100730T015700
SUMMARY:Netauktion objekt 0620-024 Auktionspåminnelse
DESCRIPTION:Länk till objektet du var intresserad av: https://staging.netauktion.se/auktion/produkt/skur-polertrissor-for-stadmaskiner
END:VEVENT
END:VCALENDAR
