BEGIN:VCALENDAR
VERSION:2.0
PRODID:-//NetAuktion//NONSGML NetAuktion//SV
METHOD:PUBLISH
BEGIN:VEVENT
UID:20260421T102801-1097511641-netauktion.se
DTSTAMP:20260421T102801
DTSTART:20100730T014500
DTEND:20100730T014800
SUMMARY:Netauktion objekt 0620-035 Auktionspåminnelse
DESCRIPTION:Länk till objektet du var intresserad av: https://staging.netauktion.se/auktion/produkt/samsung-led-tv-8000-serien-40
END:VEVENT
END:VCALENDAR
