BEGIN:VCALENDAR
VERSION:2.0
PRODID:-//NetAuktion//NONSGML NetAuktion//SV
METHOD:PUBLISH
BEGIN:VEVENT
UID:20260421T104443-1555038187-netauktion.se
DTSTAMP:20260421T104443
DTSTART:20100730T020300
DTEND:20100730T020600
SUMMARY:Netauktion objekt 0620-047 Auktionspåminnelse
DESCRIPTION:Länk till objektet du var intresserad av: https://staging.netauktion.se/auktion/produkt/stor-mangd-stadutrustning
END:VEVENT
END:VCALENDAR
