BEGIN:VCALENDAR
VERSION:2.0
PRODID:-//NetAuktion//NONSGML NetAuktion//SV
METHOD:PUBLISH
BEGIN:VEVENT
UID:20260421T104529-398265823-netauktion.se
DTSTAMP:20260421T104529
DTSTART:20100730T015400
DTEND:20100730T015700
SUMMARY:Netauktion objekt 0621-004 Auktionspåminnelse
DESCRIPTION:Länk till objektet du var intresserad av: https://staging.netauktion.se/auktion/produkt/kopieringsmaskin-ricoh-3
END:VEVENT
END:VCALENDAR
