BEGIN:VCALENDAR
VERSION:2.0
PRODID:-//NetAuktion//NONSGML NetAuktion//SV
METHOD:PUBLISH
BEGIN:VEVENT
UID:20260421T102838-901539124-netauktion.se
DTSTAMP:20260421T102838
DTSTART:20100730T023400
DTEND:20100730T023700
SUMMARY:Netauktion objekt 0620-058 Auktionspåminnelse
DESCRIPTION:Länk till objektet du var intresserad av: https://staging.netauktion.se/auktion/produkt/rengoringsmedel-och-stadutrustning
END:VEVENT
END:VCALENDAR
