BEGIN:VCALENDAR
VERSION:2.0
PRODID:-//NetAuktion//NONSGML NetAuktion//SV
METHOD:PUBLISH
BEGIN:VEVENT
UID:20260421T103006-215888566-netauktion.se
DTSTAMP:20260421T103006
DTSTART:20100730T021500
DTEND:20100730T021800
SUMMARY:Netauktion objekt 0620-062 Auktionspåminnelse
DESCRIPTION:Länk till objektet du var intresserad av: https://staging.netauktion.se/auktion/produkt/moppar-och-vagn
END:VEVENT
END:VCALENDAR
