BEGIN:VCALENDAR
VERSION:2.0
PRODID:-//NetAuktion//NONSGML NetAuktion//SV
METHOD:PUBLISH
BEGIN:VEVENT
UID:20260425T134353-419876437-netauktion.se
DTSTAMP:20260425T134353
DTSTART:20090123T012600
DTEND:20090123T012900
SUMMARY:Netauktion objekt 0142-064 Auktionspåminnelse
DESCRIPTION:Länk till objektet du var intresserad av: https://staging.netauktion.se/auktion/produkt/servetter-dispenser
END:VEVENT
END:VCALENDAR
