BEGIN:VCALENDAR
VERSION:2.0
PRODID:-//NetAuktion//NONSGML NetAuktion//SV
METHOD:PUBLISH
BEGIN:VEVENT
UID:20260421T102934-1039831955-netauktion.se
DTSTAMP:20260421T102934
DTSTART:20101102T023300
DTEND:20101102T023600
SUMMARY:Netauktion objekt 0627-009 Auktionspåminnelse
DESCRIPTION:Länk till objektet du var intresserad av: https://staging.netauktion.se/auktion/produkt/dam-och-herr-strumpor-mm
END:VEVENT
END:VCALENDAR
